BEGIN:VCALENDAR
VERSION:2.0
PRODID:-//Barski ljetopis - ECPv6.5.1.6//NONSGML v1.0//EN
CALSCALE:GREGORIAN
METHOD:PUBLISH
X-WR-CALNAME:Barski ljetopis
X-ORIGINAL-URL:https://www.barskiljetopis.me
X-WR-CALDESC:Events for Barski ljetopis
REFRESH-INTERVAL;VALUE=DURATION:PT1H
X-Robots-Tag:noindex
X-PUBLISHED-TTL:PT1H
BEGIN:VTIMEZONE
TZID:UTC
BEGIN:STANDARD
TZOFFSETFROM:+0000
TZOFFSETTO:+0000
TZNAME:UTC
DTSTART:20240101T000000
END:STANDARD
END:VTIMEZONE
BEGIN:VEVENT
DTSTART;VALUE=DATE:20240722
DTEND;VALUE=DATE:20240723
DTSTAMP:20260422T235107
CREATED:20240701T225842Z
LAST-MODIFIED:20240701T225942Z
UID:14677-1721606400-1721692799@www.barskiljetopis.me
SUMMARY:Izložba slika „Igra izvajanih sjenki“
DESCRIPTION:Izložba slika „Igra izvajanih sjenki“ \n\n jul u 21.00\n\nArhiepiskopska palata Stari Bar \n Dr Nikola Marković \n  \nUmjetnik Nikola Marković diplomirao je 1993. godine na departmanu za slikarstvo Fakulteta likovnih umjetnosti na Cetinju u Crnoj Gori. Magistrirao je slikarstvo na istom fakultetu 2007. godine. Svoj drugi magistarski rad odbranio je 2012. na katedri za AUP i zatim doktorirao 2017. godine na istom Arhitektonskom fakultetu Univerziteta u Beogradu na katedri za urbanizam. Druge Doktorske studije na ANGEWANDTE Univerzitetu u Beču upisuje 2018. godine na katedri za oblasti Teorije i Filozofije umjetnosti gdje povremeno radi i kao gostujući predavač. Doktorska disertacija na kojoj trenutno radi jeste „Die Rolle der prenatalen Asthetik beim Verstandnis der menschichen Entwicklung“. U zvanju docenta u okviru svojih pedagoških aktivnosti vodi tri predmeta na doktorskim i postdiplomskim akademskim studijama fakulteta za Politehniku na Univerzitetu Donja Gorica u periodu od 2015. godine do danas.
URL:https://www.barskiljetopis.me/event/izlozba-slika-igra-izvajanih-sjenki/
CATEGORIES:Likovni program
END:VEVENT
END:VCALENDAR