BEGIN:VCALENDAR
VERSION:2.0
PRODID:-//Barski ljetopis - ECPv6.5.1.6//NONSGML v1.0//EN
CALSCALE:GREGORIAN
METHOD:PUBLISH
X-WR-CALNAME:Barski ljetopis
X-ORIGINAL-URL:https://www.barskiljetopis.me
X-WR-CALDESC:Events for Barski ljetopis
REFRESH-INTERVAL;VALUE=DURATION:PT1H
X-Robots-Tag:noindex
X-PUBLISHED-TTL:PT1H
BEGIN:VTIMEZONE
TZID:UTC
BEGIN:STANDARD
TZOFFSETFROM:+0000
TZOFFSETTO:+0000
TZNAME:UTC
DTSTART:20250101T000000
END:STANDARD
END:VTIMEZONE
BEGIN:VEVENT
DTSTART;VALUE=DATE:20250819
DTEND;VALUE=DATE:20250820
DTSTAMP:20260421T144012
CREATED:20250628T231908Z
LAST-MODIFIED:20250628T231908Z
UID:15229-1755561600-1755647999@www.barskiljetopis.me
SUMMARY:Izložba „Gobleni – (U)Bod vremena“
DESCRIPTION:bARS \nUtorak\, 19. avgust u 20.00 \nGalerija „Velimir A. Leković“ \nIzložba „Gobleni – (U)Bod vremena“
URL:https://www.barskiljetopis.me/event/izlozba-gobleni-ubod-vremena/
CATEGORIES:bARS program
END:VEVENT
END:VCALENDAR