BEGIN:VCALENDAR
VERSION:2.0
PRODID:-//Barski ljetopis - ECPv6.5.1.6//NONSGML v1.0//EN
CALSCALE:GREGORIAN
METHOD:PUBLISH
X-ORIGINAL-URL:https://www.barskiljetopis.me
X-WR-CALDESC:Events for Barski ljetopis
REFRESH-INTERVAL;VALUE=DURATION:PT1H
X-Robots-Tag:noindex
X-PUBLISHED-TTL:PT1H
BEGIN:VTIMEZONE
TZID:UTC
BEGIN:STANDARD
TZOFFSETFROM:+0000
TZOFFSETTO:+0000
TZNAME:UTC
DTSTART:20250101T000000
END:STANDARD
END:VTIMEZONE
BEGIN:VEVENT
DTSTART;VALUE=DATE:20250805
DTEND;VALUE=DATE:20250806
DTSTAMP:20260421T144152
CREATED:20250628T233206Z
LAST-MODIFIED:20250628T233206Z
UID:15249-1754352000-1754438399@www.barskiljetopis.me
SUMMARY:Barski filmski vremeplov
DESCRIPTION: bARS \nUtorak\, 5. avgust u 21.00 \nDublin pub \nBarski filmski vremeplov \n  \nJedino „neformalno“ mjesto na kome se tokom postojanja segmenta „bARS“ održavaju programi u sklopu „Barskog ljetopisa“ je kultni „Dublin pub“\,prostor alternativne kulture Bara\, pa ni ove godine dešavanja neće izostati.  \nDo sada su ovdje održana tri „bARS“ programa. Avgusta 2022. je upriličen multimedijalni program „Hram zlatnog lotosa\, 40 godina kasnije“\, posvećen istoimenoj knjizi Slobodana Vučkovića\, koji se nakon gotovo četiri decenije opet pojavio na barskoj sceni. Naredne dvije godine\, održane su promocije albuma i spotova\, uz mini koncerte barskih pop-rock grupa „Grimm“ i VIS „BEŽ“.   \n  \nOve godine na terasi „Dublin Puba“ biće prikazan mali filmski vremeplov\, kroz niz dokumentarnih crno-bijelih filmova nastalih šezdesetih i sedamdesetih godina. Organizator večeri pod nazivom „Barski filmski vremeplov“ je NVO Mediteran Multimedia\, a program počinje u 21 sat.
URL:https://www.barskiljetopis.me/event/barski-filmski-vremeplov/
CATEGORIES:bARS program
END:VEVENT
END:VCALENDAR