BEGIN:VCALENDAR
VERSION:2.0
PRODID:-//Barski ljetopis - ECPv6.5.1.6//NONSGML v1.0//EN
CALSCALE:GREGORIAN
METHOD:PUBLISH
X-WR-CALNAME:Barski ljetopis
X-ORIGINAL-URL:https://www.barskiljetopis.me
X-WR-CALDESC:Events for Barski ljetopis
REFRESH-INTERVAL;VALUE=DURATION:PT1H
X-Robots-Tag:noindex
X-PUBLISHED-TTL:PT1H
BEGIN:VTIMEZONE
TZID:UTC
BEGIN:STANDARD
TZOFFSETFROM:+0000
TZOFFSETTO:+0000
TZNAME:UTC
DTSTART:20250101T000000
END:STANDARD
END:VTIMEZONE
BEGIN:VEVENT
DTSTART;VALUE=DATE:20250803
DTEND;VALUE=DATE:20250804
DTSTAMP:20260421T130117
CREATED:20250628T233351Z
LAST-MODIFIED:20250628T233351Z
UID:15255-1754179200-1754265599@www.barskiljetopis.me
SUMMARY:Izložba fotografija „Nasmijana Topolica“
DESCRIPTION: bARS \nNedjelja\, 3. avgust u 20.00 \nTrg Vladimira i Kosare \nIzložba fotografija „Nasmijana Topolica“ \n  \nIzložba fotografija na gradskom trgu / korzu karakteristična je za program bARS od samog nastajanja ovog segmenta manifestacije „Barski ljetopis“. \n  \nOvoga puta\, na Trgu Vladimira i Kosare\, 3. avgusta biće prikazana izložba „Nasmijana Topolica“ koju je osmislio i realizovao Željko Milović\, selektor bARSa\, uz desetak prijatelja – žitelja Stare Topolice. \n  \nStara Topolica je kolokvijalan naziv za skup zgrada urbanog centra Bara iz sedamdesetih\, podignutih oko tri ulice\, oivičenih morem i magistralom (danas Ulica Jovana Tomaševića)\, te zgradom Carine i Trudbeničkim barakama kod Madžarice. Taj kompleks zgrada je na izložbi prikazan na sasvim nesvakidašnji način – porodičnim i ličnim fotografijama stanovnika koji su se u periodu 1970-79. slikali na ulicama i na taj način postali svjedoci vremena: nastajanja/nestajanja čitavih gradskih cjelina\, ali i osmjeha koji su bili zaštitni znak u gradu „u kome su se svi poznavali“.
URL:https://www.barskiljetopis.me/event/izlozba-fotografija-nasmijana-topolica/
CATEGORIES:bARS program
END:VEVENT
END:VCALENDAR