BEGIN:VCALENDAR
VERSION:2.0
PRODID:-//Barski ljetopis - ECPv6.5.1.6//NONSGML v1.0//EN
CALSCALE:GREGORIAN
METHOD:PUBLISH
X-WR-CALNAME:Barski ljetopis
X-ORIGINAL-URL:https://www.barskiljetopis.me
X-WR-CALDESC:Events for Barski ljetopis
REFRESH-INTERVAL;VALUE=DURATION:PT1H
X-Robots-Tag:noindex
X-PUBLISHED-TTL:PT1H
BEGIN:VTIMEZONE
TZID:UTC
BEGIN:STANDARD
TZOFFSETFROM:+0000
TZOFFSETTO:+0000
TZNAME:UTC
DTSTART:20250101T000000
END:STANDARD
END:VTIMEZONE
BEGIN:VEVENT
DTSTART;VALUE=DATE:20250731
DTEND;VALUE=DATE:20250801
DTSTAMP:20260421T130117
CREATED:20250628T231137Z
LAST-MODIFIED:20250628T231154Z
UID:15214-1753920000-1754006399@www.barskiljetopis.me
SUMMARY:Koncert: Grimm plays 80’s  (unplugged)
DESCRIPTION: bARS \nČetvrtak\, 31. jul u 21.00 \nPlato Doma kulture „Vladimir Popović Španac“ \nKoncert: Grimm plays 80’s  (unplugged) \nBarska rock grupa „Grimm“ nastala je 1999. godine i iza sebe ima dva objavljena albuma („Neomeđeni“ 2008\, „Iza tišine“ 2016) i jedan koji je u fazi izdavanja („Između svjetova“\, 2025).  \nKoncertno je aktivan dugi niz godina u različitim formacijama i ostavio je poseban trag u muzičkom stvaralaštvu Crne Gore. Muzička slika varira između gothic i klasičnog rocka\, sa raskošnim orkestracijama i preplitanjem glasova Nebojše Đukanovića (muzika\, tekstovi\, vokal\, gitara\, klavijature) i Ivane Janković (vokal). Pored njih\, u grupi su Marko Mirković – bass\, Željko Samardžić – bubnjevi i Veljko Ivanović – gitara. \nSpecifičan vid muzičkog izražavanja članova benda su unplugged svirke\, a u okviru programa bARS na „Barskom ljetopisu“ predstaviće se specifičnim\, premijernim koncertom „Grimm plays 80’s  (unplugged)“. Za ovu priliku\, nastupiće kao trio: Đukanović\, Janković\, Ivanović\, a izvešće prearanžirane hitove pop i rock muzike osamdesetih – numere sastava Eurithmics\, Davida Bowiea\, Paul Younga\, Billy Idola i mnogih drugih.
URL:https://www.barskiljetopis.me/event/koncert-grimm-plays-80s-unplugged/
CATEGORIES:bARS program
END:VEVENT
END:VCALENDAR