BEGIN:VCALENDAR
VERSION:2.0
PRODID:-//Barski ljetopis - ECPv6.5.1.6//NONSGML v1.0//EN
CALSCALE:GREGORIAN
METHOD:PUBLISH
X-WR-CALNAME:Barski ljetopis
X-ORIGINAL-URL:https://www.barskiljetopis.me
X-WR-CALDESC:Events for Barski ljetopis
REFRESH-INTERVAL;VALUE=DURATION:PT1H
X-Robots-Tag:noindex
X-PUBLISHED-TTL:PT1H
BEGIN:VTIMEZONE
TZID:UTC
BEGIN:STANDARD
TZOFFSETFROM:+0000
TZOFFSETTO:+0000
TZNAME:UTC
DTSTART:20250101T000000
END:STANDARD
END:VTIMEZONE
BEGIN:VEVENT
DTSTART;VALUE=DATE:20250727
DTEND;VALUE=DATE:20250728
DTSTAMP:20260421T130204
CREATED:20250628T231320Z
LAST-MODIFIED:20250628T231320Z
UID:15218-1753574400-1753660799@www.barskiljetopis.me
SUMMARY:Koncert: Zima sings pop music
DESCRIPTION: bARS\nNedelja\, 27. jul u 21.00\nPlato Doma kulture „Vladimir Popović Španac“\nKoncert: Zima sings pop music \nHor „Zima“ je formiran 2015. godine u Baru. Trostruki je laureat međunarodnog takmičenja horova u Herceg Novom (srebrna i bronzana nagrada). Bili su učesnici festivala „Barski ljetopis“\, „Živa ulica“ i Božićnog festivala „Dukley Gardens“\, susreta horova na Cetinju 2023. godine i festivala „Mokranjčevi dani“ u Negotinu 2024. godine\, gdje su dobili Specijalnu povelju za izvođenje muzike Sergeja Tanejeva. Dobitnici su Zlatne plakete Međunarodnog festivala horova u Kikindi. U okviru manifestacije „Niške horske svečanosti“\, hor je prošle godine osvojio nagradu za koherentno izvođenje crnogorske horske muzike.\nHorom „Zima“ rukovodi mr Varvara Loyko\, dirigentica\, pjevačica\, kompozitorka i tekstopisac. Od predškolskog uzrasta bavila se pjevanjem\, završila je dječiju umetničku školu „A. Rubinstein“ u rodnom Tomsku\, u Sibiru. Bila je laureat i pobjednik regionalnih i gradskih takmičenja. Hor muzičke škole čiji je bila član\, laureat je međunarodnih takmičenja u Riva Del Gardi (Italija) i Budimpešti (Mađarska). Diplomirala je na horskom odsjeku Tomskog regionalnog koledža za kulturu i umjetnost 2004. godine. Nominalni je stipendista Fondacije „V. Potanin“. Uporedo sa karijerom u klasičnoj muzici\, bila je pjevačica\, kompozitorka i tekstopisac ruskih rock bendova „Bonus track“\, „Katafote“ i „Varja i Žirafe“\, a po dolasku u Crnu Goru bila je uključena u međunarodni projekat elektronske rock muzike „Varezhki“. Diplomirana je profesorica engleskog jezika od 2006\, a od 2021. godine magistar jurisprudencije. Od 2015. godine je direktor horskog studija ZIMA u Baru\, od juna 2022 specijalista inovacionog predškolskog muzičkog vaspitanja po sistemu V. Brainina. Organizator je festivala duhovne muzike „Ekumenika“ i više umjetničkih izložbi i srodnih događaja.\nIako su u deset godina postojanja postali regionalni poznati po izvođenju duhovnih i kompozicija klasične muzike\, u okviru programa bARS\, po prvi put u karijeri će se Hor „Zima“ predstaviti cjelovečernjim koncertom pop-rock muzike. Na programu će biti pjesme stranih\, domaćih i regionalnih izvođača\, od čega će neke biti premijerno izvedene u horskoj varijanti.
URL:https://www.barskiljetopis.me/event/koncert-zima-sings-pop-music/
CATEGORIES:bARS program
END:VEVENT
END:VCALENDAR