BEGIN:VCALENDAR
VERSION:2.0
PRODID:-//Barski ljetopis - ECPv6.5.1.6//NONSGML v1.0//EN
CALSCALE:GREGORIAN
METHOD:PUBLISH
X-ORIGINAL-URL:https://www.barskiljetopis.me
X-WR-CALDESC:Events for Barski ljetopis
REFRESH-INTERVAL;VALUE=DURATION:PT1H
X-Robots-Tag:noindex
X-PUBLISHED-TTL:PT1H
BEGIN:VTIMEZONE
TZID:UTC
BEGIN:STANDARD
TZOFFSETFROM:+0000
TZOFFSETTO:+0000
TZNAME:UTC
DTSTART:20250101T000000
END:STANDARD
END:VTIMEZONE
BEGIN:VEVENT
DTSTART;VALUE=DATE:20250709
DTEND;VALUE=DATE:20250710
DTSTAMP:20260421T094805
CREATED:20250628T233023Z
LAST-MODIFIED:20250628T233023Z
UID:15243-1752019200-1752105599@www.barskiljetopis.me
SUMMARY:Ružin trn\, četiri decenije kasnije
DESCRIPTION: bARS \nSrijeda\, 9. jul u 21.00 \nPlato Doma kulture „Vladimir Popović Španac“ \nRužin trn\, četiri decenije kasnije \nModerator: Željko Milović \n  \nRužin trn je hard-rock bend koji je svojim radom postavio Bar na muzičku mapu Jugoslavije\, u prvoj polovini osamdesetih godina. \nOsnovan je u Baru 1980. godine\, u sastavu: Novak Noco Brajović – gitara\, Perica Pero Purlija – bass\, Amir Džibi Ibrahimbegović – bubnjevi\, Slavko Ćiro Nikočević – ritam gitara i Zoran Sančo Veljić – vokal.  Prvi cjelovečernji koncert\, isključivo sa sopstvenim repertoarom\, izvode u Baru avgusta 1981. godine u holu Doma kulture. Nakon niza personalnih promjena (pri čemu je pravu senzaciju izazvalo pristupanje grupi Christophera Chrisa Nichollssa\, engleskog klavijaturiste koji je svirao sa Donovanom\, te u grupama „Foundations“ i „Time“)\, bend se 1982. godine ustaloio u postavi kvarteta (Veljić\, Brajović\, Purlija i bubnjar i teksopisac iz Nikšića Sava  Perović. \nUčestvovali su na Subotičkom festivalu „Omladina ‘83“ sa pjesmom Bate Nonina „Laku noć\, folirante“ i osvojili peto mjesto. Iste godine nastupili su kao prvi crnogorski bend na Zaječarskoj gitarijadi\, i za pjesmu „Kadinjača“ osvojili nagradu za najbolju pjesmu sa tematikom ORA i njegovanjem revolucionarne tradicije. Svirali su na skupnim koncertima u beogradskoj „Pivari“\, Domu omladine Beograd… Vođeni su pregovori sa PGP RTB za izdavanje ploče\, ali su propali nakon što je izdavač tražio od njih da se presele u Beograd. Posljednja barska svirka bila je maja 1985. u sali OŠ „Jugoslavija“\, kao predgrupa „Ribljoj čorbi“\, prva i jedina u postavi sa Nevenom Markovićem kao klavijaturistom i Iskom Čobićem kao bubnjarem.  \nBend se 1986. okuplja još jednom kako bi u beogradskom studiju „Casablanca“ snimio dvije kompozicije – „Mrzim decembar“ i „Glavom kroz zid“\, od kojih je prva postala generacijska himna Barana. Nakon pauze\, posljednji put se okupljaju 1991. pod imenom „Ružin trn“ da bi bili gosti velike Gitarijade u Podgorici.  \nIako nikada nisu objavili album\, ostavili su snažan pečat u muzičkoj istoriji Crne Gore. \n  \n*** \nU izdanju barske izdavačke kuće „Mediteran Multimedia“\, ljeta 2025. godine je objavljen CD „Duša na dobošu“\, skup studijskih i live snimaka grupe „Ružin trn“ iz Bara iz perioda 1981 – 1987. Na njemu je 12 kompozicija koje su bile gro repertoara ovog hard-rock benda.  \nAlbum je objavljen u znak sjećanja na preminule članove benda – gitaristu Novaka Brajovića i bubnjara Amira Džibija Ibrahimbegovića. \n  \nPromocija albuma biće na večeri posvećenoj stvaralaštvu ovog benda – „Ružin trn\, 45 godina kasnije“\, 9. jula u okviru segmenta bARS „Barskog ljetopisa“. Biće to i prvo veče organizovano na novoj sceni ispred Doma kulture. Učestvuju članovi benda\, a moderator je selektor bARSa\, publicista Željko Milović.   
URL:https://www.barskiljetopis.me/event/ruzin-trn-cetiri-decenije-kasnije/
CATEGORIES:bARS program
END:VEVENT
END:VCALENDAR